BEGIN:VCALENDAR
VERSION:2.0
PRODID:icalendar-ruby
CALSCALE:GREGORIAN
METHOD:PUBLISH
BEGIN:VTIMEZONE
TZID:Australia/Melbourne
BEGIN:DAYLIGHT
DTSTART:20261004T030000
TZOFFSETFROM:+1000
TZOFFSETTO:+1100
RRULE:FREQ=YEARLY;BYDAY=1SU;BYMONTH=10
TZNAME:AEDT
END:DAYLIGHT
BEGIN:STANDARD
DTSTART:20260405T020000
TZOFFSETFROM:+1100
TZOFFSETTO:+1000
RRULE:FREQ=YEARLY;BYDAY=1SU;BYMONTH=4
TZNAME:AEST
END:STANDARD
END:VTIMEZONE
BEGIN:VEVENT
DTSTAMP:20260421T045440Z
UID:inspection_3000695
DTSTART;TZID=Australia/Melbourne:20260422T164500
DTEND;TZID=Australia/Melbourne:20260422T170000
CLASS:PUBLIC
CREATED:20260416T151043
DESCRIPTION: 
LAST-MODIFIED:20260416T151043
LOCATION:2 / 6 UREN COURT\, THOMASTOWN VIC 3074\, Australia
SUMMARY:2 / 6 UREN COURT\,  Inspection
URL;VALUE=URI:http://www.millershipandco.com.au/
END:VEVENT
END:VCALENDAR
